BEGIN:VCALENDAR
VERSION:2.0
PRODID:-//Healthcare Education - ECPv6.15.20//NONSGML v1.0//EN
CALSCALE:GREGORIAN
METHOD:PUBLISH
X-WR-CALNAME:Healthcare Education
X-ORIGINAL-URL:https://healthcareeducationproject.org
X-WR-CALDESC:Events for Healthcare Education
REFRESH-INTERVAL;VALUE=DURATION:PT1H
X-Robots-Tag:noindex
X-PUBLISHED-TTL:PT1H
BEGIN:VTIMEZONE
TZID:UTC
BEGIN:STANDARD
TZOFFSETFROM:+0000
TZOFFSETTO:+0000
TZNAME:UTC
DTSTART:20230101T000000
END:STANDARD
END:VTIMEZONE
BEGIN:VEVENT
DTSTART;TZID=UTC:20240723T080000
DTEND;TZID=UTC:20240723T170000
DTSTAMP:20260419T154935
CREATED:20240723T125900Z
LAST-MODIFIED:20240723T125900Z
UID:5522-1721721600-1721754000@healthcareeducationproject.org
SUMMARY:Educating communities on the tax bill
DESCRIPTION:In the days leading up to Tax Day\, HEP ran an informational campaign that connected the dots between the huge tax cuts to corporations in the Tax Bill\, the resulting deficit\, and anticipated cuts to programs like Medicare and Medicaid\, Social Security and SNAP\, and New York’s Essential Plan for low-income residents.   Protecting healthcare funding HEP and its allies kept up the pressure on New York State to increase healthcare funding for New Yorkers in the face of heavy federal cuts.
URL:https://healthcareeducationproject.org/event/educating-communities-on-the-tax-bill/
ATTACH;FMTTYPE=image/jpeg:https://healthcareeducationproject.org/wp-content/uploads/2024/06/2024-Healthcare-Pres.-Debate-slider-HEP24-Large.jpeg
END:VEVENT
END:VCALENDAR