BEGIN:VCALENDAR
VERSION:2.0
PRODID:-//Healthcare Education - ECPv6.15.20//NONSGML v1.0//EN
CALSCALE:GREGORIAN
METHOD:PUBLISH
X-WR-CALNAME:Healthcare Education
X-ORIGINAL-URL:http://healthcareeducationproject.org
X-WR-CALDESC:Events for Healthcare Education
REFRESH-INTERVAL;VALUE=DURATION:PT1H
X-Robots-Tag:noindex
X-PUBLISHED-TTL:PT1H
BEGIN:VTIMEZONE
TZID:UTC
BEGIN:STANDARD
TZOFFSETFROM:+0000
TZOFFSETTO:+0000
TZNAME:UTC
DTSTART:20250101T000000
END:STANDARD
END:VTIMEZONE
BEGIN:VEVENT
DTSTART;TZID=UTC:20260311T173000
DTEND;TZID=UTC:20260311T203000
DTSTAMP:20260424T062143
CREATED:20260306T103428Z
LAST-MODIFIED:20260306T104709Z
UID:9217-1773250200-1773261000@healthcareeducationproject.org
SUMMARY:ICE & HEALTHCARE TOWNHALL
DESCRIPTION:MARCH 11TH\n5:30pm — 8:30 pm\nBronx Bethany Church 971 East 227th Street \nRSVP / INFO\nbit.ly/BXMAR2026
URL:http://healthcareeducationproject.org/event/ice-healthcare-townhall/
ATTACH;FMTTYPE=image/png:http://healthcareeducationproject.org/wp-content/uploads/2026/03/PNHP_Registration_Flyer_Bronx_Town_Hall_English_.png
END:VEVENT
BEGIN:VEVENT
DTSTART;TZID=UTC:20260321T150000
DTEND;TZID=UTC:20260321T163000
DTSTAMP:20260424T062143
CREATED:20260220T160028Z
LAST-MODIFIED:20260220T160102Z
UID:9108-1774105200-1774110600@healthcareeducationproject.org
SUMMARY:UNITED FOR WELL-BEING: CARING FOR OUR MIND AND OUR BODY
DESCRIPTION:We know that what’s good for the heart is also good for the brain. Join us to learn about science-based recommendations for taking care of your brain and body\, along with tips on how to make small changes to create healthier habits. This is a FREE program held in Spanish\, and everyone is welcome!\nVisit alz.org/CRF to explore additional educational programs in New York City.\nOn March 21\, 2026\n3:00 – 4:30 p.m. \nQueens Public Library – Corona 38-23 104th St
URL:http://healthcareeducationproject.org/event/united-for-well-being-caring-for-our-mind-and-our-body-2/
ATTACH;FMTTYPE=image/png:http://healthcareeducationproject.org/wp-content/uploads/2026/02/7be750e4-2.png
END:VEVENT
BEGIN:VEVENT
DTSTART;TZID=UTC:20260325T100000
DTEND;TZID=UTC:20260325T150000
DTSTAMP:20260424T062143
CREATED:20260305T102519Z
LAST-MODIFIED:20260305T110117Z
UID:9210-1774432800-1774450800@healthcareeducationproject.org
SUMMARY:WOMEN'S HISTORY MONTH SYMPOSIUM
DESCRIPTION:LEADING THE CHANGE: \n“Women Shaping a Sustainable Future” \nbroadens the definition of sustainability beyond environmental stewardship alone. It embraces financial stability\, community resilience\, leadership development\, and intergenerational equity. \nWEDNESDAY MARCH 25\, 2026\n10:00am-3:00pm\nBatavia Downs Event Center Batavia\, NY
URL:http://healthcareeducationproject.org/event/womens-history-month-symposium/
ATTACH;FMTTYPE=image/jpeg:http://healthcareeducationproject.org/wp-content/uploads/2026/03/Picture1.jpg
END:VEVENT
BEGIN:VEVENT
DTSTART;TZID=UTC:20260328T083000
DTEND;TZID=UTC:20260328T150000
DTSTAMP:20260424T062143
CREATED:20260302T101245Z
LAST-MODIFIED:20260305T102310Z
UID:9201-1774686600-1774710000@healthcareeducationproject.org
SUMMARY:10th Annual Women's Health  Symposium
DESCRIPTION:March 28th\, 2026 \n8:30 AM – 3:00 PM \nYork College\, CUNY 94-20 Guy R. Brewer Blvd. Jamaica\, NY 11451
URL:http://healthcareeducationproject.org/event/10th-annual-womens-health-symposium/
ATTACH;FMTTYPE=image/png:http://healthcareeducationproject.org/wp-content/uploads/2026/03/32ba0710-1.png
END:VEVENT
BEGIN:VEVENT
DTSTART;TZID=UTC:20260328T120000
DTEND;TZID=UTC:20260328T160000
DTSTAMP:20260424T062143
CREATED:20260313T161059Z
LAST-MODIFIED:20260313T161059Z
UID:9251-1774699200-1774713600@healthcareeducationproject.org
SUMMARY:Feria de Salud
DESCRIPTION:
URL:http://healthcareeducationproject.org/event/feria-de-salud-2/
ATTACH;FMTTYPE=image/png:http://healthcareeducationproject.org/wp-content/uploads/2026/03/Picture1-1.png
END:VEVENT
END:VCALENDAR