BEGIN:VCALENDAR
VERSION:2.0
PRODID:-//Healthcare Education - ECPv6.15.20//NONSGML v1.0//EN
CALSCALE:GREGORIAN
METHOD:PUBLISH
X-ORIGINAL-URL:http://healthcareeducationproject.org
X-WR-CALDESC:Events for Healthcare Education
REFRESH-INTERVAL;VALUE=DURATION:PT1H
X-Robots-Tag:noindex
X-PUBLISHED-TTL:PT1H
BEGIN:VTIMEZONE
TZID:UTC
BEGIN:STANDARD
TZOFFSETFROM:+0000
TZOFFSETTO:+0000
TZNAME:UTC
DTSTART:20250101T000000
END:STANDARD
END:VTIMEZONE
BEGIN:VEVENT
DTSTART;TZID=UTC:20260115T173000
DTEND;TZID=UTC:20260115T173000
DTSTAMP:20260424T090311
CREATED:20260108T123343Z
LAST-MODIFIED:20260109T110942Z
UID:8707-1768498200-1768498200@healthcareeducationproject.org
SUMMARY:ANSWERING DR. MARTIN LUTHER KING'S CALL IN 2026
DESCRIPTION:On Dr. Martin Luther King’s birthday\, we rededicate ourselves to his radical and courageous vision. In the face of the relentless attacks on immigrants\, civil rights and our social safety net\, we ask ourselves: how would Dr. King respond to this moment?\nTHURSDAY\, JANUARY 15\n5:30 PM\, RIVERSIDE CHURCH\n490 Riverside Dr\, New York\, NY
URL:http://healthcareeducationproject.org/event/answering-dr-martin-luther-kings-call-in-2026/
ATTACH;FMTTYPE=image/png:http://healthcareeducationproject.org/wp-content/uploads/2026/01/MLK-event-1-15_RSVP-1.png
END:VEVENT
BEGIN:VEVENT
DTSTART;TZID=UTC:20260127T113000
DTEND;TZID=UTC:20260127T130000
DTSTAMP:20260424T090311
CREATED:20260119T102301Z
LAST-MODIFIED:20260119T102448Z
UID:8724-1769513400-1769518800@healthcareeducationproject.org
SUMMARY:UNDERSTANDING THE NEW HEALTHCARE CHANGES IN 2026
DESCRIPTION:ŞILVER Connections \nLunch & Learn \nUNDERSTANDING THE NEW HEALTHCARE CHANGES IN 2026 \n. A simple breakdown of key healthcare changes \n.What it means locally for older adults \n. Resources + advocacy tools \nTUESDAY \nJANUARY 27\n11:30 AM – 1:00 PM
URL:http://healthcareeducationproject.org/event/understanding-the-new-healthcare-changes-in-2026/
ATTACH;FMTTYPE=image/jpeg:http://healthcareeducationproject.org/wp-content/uploads/2026/01/Image.jpeg
END:VEVENT
END:VCALENDAR