BEGIN:VCALENDAR
VERSION:2.0
PRODID:-//Healthcare Education - ECPv6.15.20//NONSGML v1.0//EN
CALSCALE:GREGORIAN
METHOD:PUBLISH
X-ORIGINAL-URL:http://healthcareeducationproject.org
X-WR-CALDESC:Events for Healthcare Education
REFRESH-INTERVAL;VALUE=DURATION:PT1H
X-Robots-Tag:noindex
X-PUBLISHED-TTL:PT1H
BEGIN:VTIMEZONE
TZID:UTC
BEGIN:STANDARD
TZOFFSETFROM:+0000
TZOFFSETTO:+0000
TZNAME:UTC
DTSTART:20250101T000000
END:STANDARD
END:VTIMEZONE
BEGIN:VEVENT
DTSTART;TZID=UTC:20260722T170000
DTEND;TZID=UTC:20260722T200000
DTSTAMP:20260424T145850
CREATED:20260312T143955Z
LAST-MODIFIED:20260312T143955Z
UID:9246-1784739600-1784750400@healthcareeducationproject.org
SUMMARY:BUFFALO PRENATAL PERINATAL NETWORK
DESCRIPTION:
URL:http://healthcareeducationproject.org/event/buffalo-prenatal-perinatal-network/
ATTACH;FMTTYPE=image/png:http://healthcareeducationproject.org/wp-content/uploads/2026/03/Picture1.png
END:VEVENT
BEGIN:VEVENT
DTSTART;TZID=UTC:20260723T000000
DTEND;TZID=UTC:20260723T000000
DTSTAMP:20260424T145850
CREATED:20260414T141049Z
LAST-MODIFIED:20260414T141049Z
UID:9345-1784764800-1784764800@healthcareeducationproject.org
SUMMARY:THE 7TH ANNUAL WOMEN OF COLOR SUMMIT & ALLY INSTITUTE
DESCRIPTION:THURS \nJuly 16 & 23\, 2026\nLocation \nVia Zoom
URL:http://healthcareeducationproject.org/event/the-7th-annual-women-of-color-summit-ally-institute-3/
ATTACH;FMTTYPE=image/jpeg:http://healthcareeducationproject.org/wp-content/uploads/2026/04/Picture1-1.jpg
END:VEVENT
BEGIN:VEVENT
DTSTART;TZID=UTC:20260823T163000
DTEND;TZID=UTC:20260823T183000
DTSTAMP:20260424T145850
CREATED:20260423T130027Z
LAST-MODIFIED:20260423T130027Z
UID:9378-1787502600-1787509800@healthcareeducationproject.org
SUMMARY:Alliance in the campaign for the Hepatitis A outbreak. We are waiting for you!
DESCRIPTION:Thursday\, August 23\, 2026\n4:30 PM to 6:30PM\nParking Iglesia Bautista Canaan 39-08 104th street\, Corona NY 11368
URL:http://healthcareeducationproject.org/event/alliance-in-the-campaign-for-the-hepatitis-a-outbreak-we-are-waiting-for-you/
ATTACH;FMTTYPE=image/png:http://healthcareeducationproject.org/wp-content/uploads/2026/04/Flyer-iglesia-bautista-inglesia-English-1.png
END:VEVENT
END:VCALENDAR