BEGIN:VCALENDAR
VERSION:2.0
PRODID:-//Healthcare Education - ECPv6.15.20//NONSGML v1.0//EN
CALSCALE:GREGORIAN
METHOD:PUBLISH
X-WR-CALNAME:Healthcare Education
X-ORIGINAL-URL:http://healthcareeducationproject.org
X-WR-CALDESC:Events for Healthcare Education
REFRESH-INTERVAL;VALUE=DURATION:PT1H
X-Robots-Tag:noindex
X-PUBLISHED-TTL:PT1H
BEGIN:VTIMEZONE
TZID:UTC
BEGIN:STANDARD
TZOFFSETFROM:+0000
TZOFFSETTO:+0000
TZNAME:UTC
DTSTART:20250101T000000
END:STANDARD
END:VTIMEZONE
BEGIN:VEVENT
DTSTART;TZID=UTC:20260523T090000
DTEND;TZID=UTC:20260523T130000
DTSTAMP:20260424T090102
CREATED:20260415T141314Z
LAST-MODIFIED:20260415T141726Z
UID:9352-1779526800-1779541200@healthcareeducationproject.org
SUMMARY:FERIA DE SALUD COMUNITARIA
DESCRIPTION:
URL:http://healthcareeducationproject.org/event/feria-de-salud-comunitaria/
ATTACH;FMTTYPE=image/jpeg:http://healthcareeducationproject.org/wp-content/uploads/2026/04/Picture1-2.jpg
END:VEVENT
END:VCALENDAR