BEGIN:VCALENDAR
VERSION:2.0
PRODID:-//Healthcare Education - ECPv6.15.20//NONSGML v1.0//EN
CALSCALE:GREGORIAN
METHOD:PUBLISH
X-WR-CALNAME:Healthcare Education
X-ORIGINAL-URL:http://healthcareeducationproject.org
X-WR-CALDESC:Events for Healthcare Education
REFRESH-INTERVAL;VALUE=DURATION:PT1H
X-Robots-Tag:noindex
X-PUBLISHED-TTL:PT1H
BEGIN:VTIMEZONE
TZID:UTC
BEGIN:STANDARD
TZOFFSETFROM:+0000
TZOFFSETTO:+0000
TZNAME:UTC
DTSTART:20250101T000000
END:STANDARD
END:VTIMEZONE
BEGIN:VEVENT
DTSTART;TZID=UTC:20260423T160000
DTEND;TZID=UTC:20260423T173000
DTSTAMP:20260424T045555
CREATED:20260422T095512Z
LAST-MODIFIED:20260422T095625Z
UID:9371-1776960000-1776965400@healthcareeducationproject.org
SUMMARY:HEPATITIS A
DESCRIPTION:The Department of Mental Health and Hygiene has reported the outbreak of Hepatitis A in Queens and Brooklyn. Especially in Corona\, Elmhurst\, Woodhaven (Queens) and Ridgewood\, Bushwick (Brooklyn). We invite you to participate in the talk on Prevention\, Symptoms\, Treatment\, and Contagion.\nDate: Thursday\, April 23\nTime: 4:00 PM – 5:30 PM\nLocation: Corona Community Library\n38-23 104th Street\, Corona\, NY 11368
URL:http://healthcareeducationproject.org/event/hepatitis-a/
ATTACH;FMTTYPE=image/png:http://healthcareeducationproject.org/wp-content/uploads/2026/04/HEPATITIS-A-3-1.png
END:VEVENT
END:VCALENDAR