BEGIN:VCALENDAR
VERSION:2.0
PRODID:-//Healthcare Education - ECPv6.15.20//NONSGML v1.0//EN
CALSCALE:GREGORIAN
METHOD:PUBLISH
X-ORIGINAL-URL:http://healthcareeducationproject.org
X-WR-CALDESC:Events for Healthcare Education
REFRESH-INTERVAL;VALUE=DURATION:PT1H
X-Robots-Tag:noindex
X-PUBLISHED-TTL:PT1H
BEGIN:VTIMEZONE
TZID:UTC
BEGIN:STANDARD
TZOFFSETFROM:+0000
TZOFFSETTO:+0000
TZNAME:UTC
DTSTART:20250101T000000
END:STANDARD
END:VTIMEZONE
BEGIN:VEVENT
DTSTART;TZID=UTC:20260404T120000
DTEND;TZID=UTC:20260404T120000
DTSTAMP:20260424T063303
CREATED:20260402T100349Z
LAST-MODIFIED:20260402T100416Z
UID:9309-1775304000-1775304000@healthcareeducationproject.org
SUMMARY:Mujeres Inspiradoras
DESCRIPTION:
URL:http://healthcareeducationproject.org/event/mujeres-inspiradoras/
ATTACH;FMTTYPE=image/png:http://healthcareeducationproject.org/wp-content/uploads/2026/04/Picture2.png
END:VEVENT
END:VCALENDAR