BEGIN:VCALENDAR
VERSION:2.0
PRODID:-//Healthcare Education - ECPv6.15.20//NONSGML v1.0//EN
CALSCALE:GREGORIAN
METHOD:PUBLISH
X-WR-CALNAME:Healthcare Education
X-ORIGINAL-URL:http://healthcareeducationproject.org
X-WR-CALDESC:Events for Healthcare Education
REFRESH-INTERVAL;VALUE=DURATION:PT1H
X-Robots-Tag:noindex
X-PUBLISHED-TTL:PT1H
BEGIN:VTIMEZONE
TZID:UTC
BEGIN:STANDARD
TZOFFSETFROM:+0000
TZOFFSETTO:+0000
TZNAME:UTC
DTSTART:20250101T000000
END:STANDARD
END:VTIMEZONE
BEGIN:VEVENT
DTSTART;TZID=UTC:20260321T150000
DTEND;TZID=UTC:20260321T163000
DTSTAMP:20260424T073621
CREATED:20260220T160028Z
LAST-MODIFIED:20260220T160102Z
UID:9108-1774105200-1774110600@healthcareeducationproject.org
SUMMARY:UNITED FOR WELL-BEING: CARING FOR OUR MIND AND OUR BODY
DESCRIPTION:We know that what’s good for the heart is also good for the brain. Join us to learn about science-based recommendations for taking care of your brain and body\, along with tips on how to make small changes to create healthier habits. This is a FREE program held in Spanish\, and everyone is welcome!\nVisit alz.org/CRF to explore additional educational programs in New York City.\nOn March 21\, 2026\n3:00 – 4:30 p.m. \nQueens Public Library – Corona 38-23 104th St
URL:http://healthcareeducationproject.org/event/united-for-well-being-caring-for-our-mind-and-our-body-2/
ATTACH;FMTTYPE=image/png:http://healthcareeducationproject.org/wp-content/uploads/2026/02/7be750e4-2.png
END:VEVENT
END:VCALENDAR