BEGIN:VCALENDAR
VERSION:2.0
PRODID:-//Healthcare Education - ECPv6.15.20//NONSGML v1.0//EN
CALSCALE:GREGORIAN
METHOD:PUBLISH
X-ORIGINAL-URL:http://healthcareeducationproject.org
X-WR-CALDESC:Events for Healthcare Education
REFRESH-INTERVAL;VALUE=DURATION:PT1H
X-Robots-Tag:noindex
X-PUBLISHED-TTL:PT1H
BEGIN:VTIMEZONE
TZID:UTC
BEGIN:STANDARD
TZOFFSETFROM:+0000
TZOFFSETTO:+0000
TZNAME:UTC
DTSTART:20250101T000000
END:STANDARD
END:VTIMEZONE
BEGIN:VEVENT
DTSTART;TZID=UTC:20260201T090000
DTEND;TZID=UTC:20260201T163000
DTSTAMP:20260424T090215
CREATED:20260128T121323Z
LAST-MODIFIED:20260128T121323Z
UID:8736-1769936400-1769963400@healthcareeducationproject.org
SUMMARY:EARLY DETECTION OF BREAST CANCER SAVES LIVES!
DESCRIPTION:The Mammogram Bus will be here Sunday\, February 1st!\nHosted by: Healthcare Education Project y Entre Mujeres Hispanas de Queens\nIglesia Bautista Canaan\n39-08 104th Street\, Corona\, NY 11368\nSunday\, February 1\, 2026\n9:00am- 4:30pm\nSchedule a no-cost mammogram today!\n917-902-4728 \nEligibility: \n\nWomen ages 40 – 75\nCurrently living in New York City\nNo Mammogram in the past 12 months\n\nOur services are at no-cost.\nNo co-pays required and deductibles are waived. Uninsured patients also welcomed.\nPlease bring your photo ID and health insurance card (if insured)\nMedical Services provided by Multi-Diagnostic Services
URL:http://healthcareeducationproject.org/event/early-detection-of-breast-cancer-saves-lives-2/
ATTACH;FMTTYPE=image/png:http://healthcareeducationproject.org/wp-content/uploads/2026/01/Iglesia-Bautista-Canaan-Mammogram-Bus-2126-Cruz-1.png
END:VEVENT
END:VCALENDAR