BEGIN:VCALENDAR
VERSION:2.0
PRODID:-//Healthcare Education - ECPv6.15.20//NONSGML v1.0//EN
CALSCALE:GREGORIAN
METHOD:PUBLISH
X-WR-CALNAME:Healthcare Education
X-ORIGINAL-URL:http://healthcareeducationproject.org
X-WR-CALDESC:Events for Healthcare Education
REFRESH-INTERVAL;VALUE=DURATION:PT1H
X-Robots-Tag:noindex
X-PUBLISHED-TTL:PT1H
BEGIN:VTIMEZONE
TZID:UTC
BEGIN:STANDARD
TZOFFSETFROM:+0000
TZOFFSETTO:+0000
TZNAME:UTC
DTSTART:20240101T000000
END:STANDARD
END:VTIMEZONE
BEGIN:VEVENT
DTSTART;TZID=UTC:20251222T120000
DTEND;TZID=UTC:20251222T120000
DTSTAMP:20260424T114929
CREATED:20251218T154046Z
LAST-MODIFIED:20251218T154132Z
UID:8649-1766404800-1766404800@healthcareeducationproject.org
SUMMARY:Christmas Luncheon
DESCRIPTION:You invited to celebrate Christmas with us!\nLunch – Beverages – Gifts\nWinter Coats – Clothes – Shoes\nRAFFLE & GIVEAWAYS by Pastor Campbell\nOffering Satin Hands & Satin Lips Pampering.\nFree Gifts For The 1st 10 People To\nSign In At MARY KAY Table.\nDECEMBER 22ND 2025 AT 12NOON\n& Clay Shelter – Facility Cafeteria\n66 Clay Street\, Greenpoint NY 11222
URL:http://healthcareeducationproject.org/event/christmas-luncheon/
ATTACH;FMTTYPE=image/jpeg:http://healthcareeducationproject.org/wp-content/uploads/2025/12/Picture1-1.jpg
END:VEVENT
END:VCALENDAR