BEGIN:VCALENDAR
VERSION:2.0
PRODID:-//Healthcare Education - ECPv6.15.20//NONSGML v1.0//EN
CALSCALE:GREGORIAN
METHOD:PUBLISH
X-WR-CALNAME:Healthcare Education
X-ORIGINAL-URL:http://healthcareeducationproject.org
X-WR-CALDESC:Events for Healthcare Education
REFRESH-INTERVAL;VALUE=DURATION:PT1H
X-Robots-Tag:noindex
X-PUBLISHED-TTL:PT1H
BEGIN:VTIMEZONE
TZID:UTC
BEGIN:STANDARD
TZOFFSETFROM:+0000
TZOFFSETTO:+0000
TZNAME:UTC
DTSTART:20240101T000000
END:STANDARD
END:VTIMEZONE
BEGIN:VEVENT
DTSTART;TZID=UTC:20251220T120000
DTEND;TZID=UTC:20251220T150000
DTSTAMP:20260424T114902
CREATED:20251218T154624Z
LAST-MODIFIED:20251218T154715Z
UID:8653-1766232000-1766242800@healthcareeducationproject.org
SUMMARY:Christmas Celebration
DESCRIPTION:Saturday 20th DECEMBER 12:00pm – 3:00pm\n720 Cleveland Street\, Brooklyn NY 11208 \nFor More Information Contact:\nMinister Damarys Butler @ 917-370-7850\nChaplain Jerome Green @ (347) 776-8470\nEmail Us : worldwidechaplains@gmail.com
URL:http://healthcareeducationproject.org/event/christmas-celebration/
ATTACH;FMTTYPE=image/jpeg:http://healthcareeducationproject.org/wp-content/uploads/2025/12/Picture2.jpg
END:VEVENT
END:VCALENDAR