BEGIN:VCALENDAR
VERSION:2.0
PRODID:-//Healthcare Education - ECPv6.15.20//NONSGML v1.0//EN
CALSCALE:GREGORIAN
METHOD:PUBLISH
X-WR-CALNAME:Healthcare Education
X-ORIGINAL-URL:http://healthcareeducationproject.org
X-WR-CALDESC:Events for Healthcare Education
REFRESH-INTERVAL;VALUE=DURATION:PT1H
X-Robots-Tag:noindex
X-PUBLISHED-TTL:PT1H
BEGIN:VTIMEZONE
TZID:UTC
BEGIN:STANDARD
TZOFFSETFROM:+0000
TZOFFSETTO:+0000
TZNAME:UTC
DTSTART:20240101T000000
END:STANDARD
END:VTIMEZONE
BEGIN:VEVENT
DTSTART;TZID=UTC:20251213T100000
DTEND;TZID=UTC:20251213T150000
DTSTAMP:20260424T114928
CREATED:20251209T095145Z
LAST-MODIFIED:20251209T142234Z
UID:8615-1765620000-1765638000@healthcareeducationproject.org
SUMMARY:Blood Test Screening Quest Diagnostics Blueprint for Wellness Initiative
DESCRIPTION:RECEIVE A NO-COST\nSATURDAY Dec 13\, 2025.\n10:00 AM to 3:00 AM \nASSESSMENT OF YOUR: \nDiabetes Risk\nHeart Health\nLiver & Kidney Health\nThyroid Health\nBlood Pressure\nBone Health\nAnd More! \nREGISTER NOW \nmy.questforhealth.com\n*Registration Key: ChooseHealthyLife \nCOMMUNITY HEALTH CENTER OF BUFFALO (CHCB)\n34 Benwood Avenue Buffalo\, NY 14214
URL:http://healthcareeducationproject.org/event/blood-test-screening-quest-diagnostics-blueprint-for-wellness-initiative/
ATTACH;FMTTYPE=image/png:http://healthcareeducationproject.org/wp-content/uploads/2025/12/12.13.2025-Blood-Test-Screening-1-4.png
END:VEVENT
END:VCALENDAR