BEGIN:VCALENDAR
VERSION:2.0
PRODID:-//Healthcare Education - ECPv6.15.20//NONSGML v1.0//EN
CALSCALE:GREGORIAN
METHOD:PUBLISH
X-WR-CALNAME:Healthcare Education
X-ORIGINAL-URL:http://healthcareeducationproject.org
X-WR-CALDESC:Events for Healthcare Education
REFRESH-INTERVAL;VALUE=DURATION:PT1H
X-Robots-Tag:noindex
X-PUBLISHED-TTL:PT1H
BEGIN:VTIMEZONE
TZID:UTC
BEGIN:STANDARD
TZOFFSETFROM:+0000
TZOFFSETTO:+0000
TZNAME:UTC
DTSTART:20240101T000000
END:STANDARD
END:VTIMEZONE
BEGIN:VEVENT
DTSTART;TZID=UTC:20251205T083000
DTEND;TZID=UTC:20251205T120000
DTSTAMP:20260424T114902
CREATED:20251209T143217Z
LAST-MODIFIED:20251209T143514Z
UID:8623-1764923400-1764936000@healthcareeducationproject.org
SUMMARY:15th Annual Holiday Passport to Wellness
DESCRIPTION:Name of Event: 15th Annual Holiday Passport to Wellness\n \nHEP or Partner Event? HEP is on the Board of Directors for the Near East and West Side Taskforce. \nWhen: Friday\, December 5\, 2025 \nTime: 8:30AM to 12:00PM \nLocation: The Broadway Markey (999 Broadway\, Buffalo\, NY 14212) \nPurpose of Event: The first 75 registered individuals who complete their Passport to Wellness by meeting with wellness and education vendors and participating in free health screenings will receive a $10 gift card. Participants must be 17 years of age or older to qualify for the free gift card.
URL:http://healthcareeducationproject.org/event/15th-annual-holiday-passport-to-wellness/
ATTACH;FMTTYPE=image/jpeg:http://healthcareeducationproject.org/wp-content/uploads/2025/12/Picture1.jpg
END:VEVENT
END:VCALENDAR