BEGIN:VCALENDAR
VERSION:2.0
PRODID:-//Healthcare Education - ECPv6.15.20//NONSGML v1.0//EN
CALSCALE:GREGORIAN
METHOD:PUBLISH
X-ORIGINAL-URL:http://healthcareeducationproject.org
X-WR-CALDESC:Events for Healthcare Education
REFRESH-INTERVAL;VALUE=DURATION:PT1H
X-Robots-Tag:noindex
X-PUBLISHED-TTL:PT1H
BEGIN:VTIMEZONE
TZID:UTC
BEGIN:STANDARD
TZOFFSETFROM:+0000
TZOFFSETTO:+0000
TZNAME:UTC
DTSTART:20240101T000000
END:STANDARD
END:VTIMEZONE
BEGIN:VEVENT
DTSTART;TZID=UTC:20251202T100000
DTEND;TZID=UTC:20251202T130000
DTSTAMP:20260424T115000
CREATED:20251111T110056Z
LAST-MODIFIED:20251111T110056Z
UID:8483-1764669600-1764680400@healthcareeducationproject.org
SUMMARY:2025 WORLD AIDS DAY Breakfast
DESCRIPTION:Join us for a morning of unity\, education\, and collaboration as we honor World AIDS Day and reaffirm our commitment to ending the HIV epidemic through community partnership and advocacy. \nTUESDAY\, DECEMBER 2\, 2025\, 10AM-1PM \nBRENTWOOD PUBLIC LIBRARY AUDITORIUM 34 \nSECOND AVE.\, BRENTWOOD\, NY 11717
URL:http://healthcareeducationproject.org/event/2025-world-aids-day-breakfast/
LOCATION:BRENTWOOD PUBLIC LIBRARY AUDITORIUM 34 SECOND AVE.\, BRENTWOOD\, NY 11717
ATTACH;FMTTYPE=image/jpeg:http://healthcareeducationproject.org/wp-content/uploads/2025/11/2025-WORLD-AIDS-DAY-Breakfast-120225.jpg
END:VEVENT
END:VCALENDAR