BEGIN:VCALENDAR
VERSION:2.0
PRODID:-//Healthcare Education - ECPv6.15.20//NONSGML v1.0//EN
CALSCALE:GREGORIAN
METHOD:PUBLISH
X-WR-CALNAME:Healthcare Education
X-ORIGINAL-URL:http://healthcareeducationproject.org
X-WR-CALDESC:Events for Healthcare Education
REFRESH-INTERVAL;VALUE=DURATION:PT1H
X-Robots-Tag:noindex
X-PUBLISHED-TTL:PT1H
BEGIN:VTIMEZONE
TZID:UTC
BEGIN:STANDARD
TZOFFSETFROM:+0000
TZOFFSETTO:+0000
TZNAME:UTC
DTSTART:20240101T000000
END:STANDARD
END:VTIMEZONE
BEGIN:VEVENT
DTSTART;TZID=UTC:20251201T190000
DTEND;TZID=UTC:20251201T190000
DTSTAMP:20260424T114902
CREATED:20251105T104233Z
LAST-MODIFIED:20251105T104326Z
UID:8477-1764615600-1764615600@healthcareeducationproject.org
SUMMARY:Community Connection: One Big Bill
DESCRIPTION:Breaking down the devastating cuts to Medicaid\, Medicare\,\nthe Affordable Care Act\, SNAP and Social Security. \nMonday\, December 1\, 2025\n7pm (doors open at 6:30pm)\nDeer Park School District Office Board Room\n(Entrance located on Lake Avenue)\nDeer Park\, NY 11729
URL:http://healthcareeducationproject.org/event/community-connection-one-big-bill-3/
ATTACH;FMTTYPE=image/jpeg:http://healthcareeducationproject.org/wp-content/uploads/2025/11/Community-Connection-One-Big-Bill-Dec-Deer-Park-Final-scaled.jpg
END:VEVENT
END:VCALENDAR