BEGIN:VCALENDAR
VERSION:2.0
PRODID:-//Healthcare Education - ECPv6.15.20//NONSGML v1.0//EN
CALSCALE:GREGORIAN
METHOD:PUBLISH
X-ORIGINAL-URL:http://healthcareeducationproject.org
X-WR-CALDESC:Events for Healthcare Education
REFRESH-INTERVAL;VALUE=DURATION:PT1H
X-Robots-Tag:noindex
X-PUBLISHED-TTL:PT1H
BEGIN:VTIMEZONE
TZID:UTC
BEGIN:STANDARD
TZOFFSETFROM:+0000
TZOFFSETTO:+0000
TZNAME:UTC
DTSTART:20240101T000000
END:STANDARD
END:VTIMEZONE
BEGIN:VEVENT
DTSTART;TZID=UTC:20251025T090000
DTEND;TZID=UTC:20251025T170000
DTSTAMP:20260424T142606
CREATED:20251022T105451Z
LAST-MODIFIED:20251022T105620Z
UID:8329-1761382800-1761411600@healthcareeducationproject.org
SUMMARY:NAACP SYRACUSE AND ONONDAGA COUNTY GOLDEN DAY CELEBRATION
DESCRIPTION:
URL:http://healthcareeducationproject.org/event/naacp-syracuse-and-onondaga-county-golden-day-celebration/
ATTACH;FMTTYPE=image/jpeg:http://healthcareeducationproject.org/wp-content/uploads/2025/10/NAACP-Golden-Day-Celebration-102525_page-0001.jpg
END:VEVENT
BEGIN:VEVENT
DTSTART;TZID=UTC:20251025T120000
DTEND;TZID=UTC:20251025T160000
DTSTAMP:20260424T142606
CREATED:20251015T132139Z
LAST-MODIFIED:20251015T132139Z
UID:8187-1761393600-1761408000@healthcareeducationproject.org
SUMMARY:Souls to the Polls
DESCRIPTION:  \n 
URL:http://healthcareeducationproject.org/event/souls-to-the-polls/
LOCATION:DELAVAN GRIDER COMMUNITY CENTER 877 E DELAVAN AVE\, BUFFALO\, NY 14215\, DELAVAN GRIDER COMMUNITY CENTER 877 E DELAVAN AVE\, BUFFALO\, NY 14215\, BUFFALO\, NY\, United States
ATTACH;FMTTYPE=image/png:http://healthcareeducationproject.org/wp-content/uploads/2025/10/Picture1.png
END:VEVENT
END:VCALENDAR