BEGIN:VCALENDAR
VERSION:2.0
PRODID:-//Healthcare Education - ECPv6.15.20//NONSGML v1.0//EN
CALSCALE:GREGORIAN
METHOD:PUBLISH
X-ORIGINAL-URL:http://healthcareeducationproject.org
X-WR-CALDESC:Events for Healthcare Education
REFRESH-INTERVAL;VALUE=DURATION:PT1H
X-Robots-Tag:noindex
X-PUBLISHED-TTL:PT1H
BEGIN:VTIMEZONE
TZID:UTC
BEGIN:STANDARD
TZOFFSETFROM:+0000
TZOFFSETTO:+0000
TZNAME:UTC
DTSTART:20240101T000000
END:STANDARD
END:VTIMEZONE
BEGIN:VEVENT
DTSTART;TZID=UTC:20251011T120000
DTEND;TZID=UTC:20251011T120000
DTSTAMP:20260424T142605
CREATED:20251015T102128Z
LAST-MODIFIED:20251015T102241Z
UID:8154-1760184000-1760184000@healthcareeducationproject.org
SUMMARY:Andean SUMMIT  2025
DESCRIPTION:  \n  \n 
URL:http://healthcareeducationproject.org/event/andean-summit-2025/
LOCATION:P.S. 19Q Marino P. Jeantet 9802 Roosevelt Ave\, Corona\, NY 11368\, P.S. 19Q Marino P. Jeantet 9802 Roosevelt Ave\, Corona\, NY 11368\, NY\, United States
ATTACH;FMTTYPE=image/png:http://healthcareeducationproject.org/wp-content/uploads/2025/10/Andean-Summit-2025-101125.png
END:VEVENT
BEGIN:VEVENT
DTSTART;TZID=UTC:20251011T160000
DTEND;TZID=UTC:20251011T170000
DTSTAMP:20260424T142605
CREATED:20251009T112402Z
LAST-MODIFIED:20251009T112402Z
UID:8124-1760198400-1760202000@healthcareeducationproject.org
SUMMARY:ENTRE MUJERES HISPANAS DE QUEENS
DESCRIPTION:
URL:http://healthcareeducationproject.org/event/entre-mujeres-hispanas-de-queens/
LOCATION:35-15 Junction Blvd\, Corona\, NY. 11368\, 35-15 Junction Blvd\, Corona\, NY. 11368\, NY\, 11368\, United States
ATTACH;FMTTYPE=image/jpeg:http://healthcareeducationproject.org/wp-content/uploads/2025/10/PHOTO-2025-09-29-15-05-10.jpg
END:VEVENT
END:VCALENDAR